BEGIN:VCALENDAR
VERSION:2.0
PRODID:-//De Boei Vinkeveen - ECPv6.15.20//NONSGML v1.0//EN
CALSCALE:GREGORIAN
METHOD:PUBLISH
X-ORIGINAL-URL:https://www.deboeivinkeveen.nl
X-WR-CALDESC:Evenementen voor De Boei Vinkeveen
REFRESH-INTERVAL;VALUE=DURATION:PT1H
X-Robots-Tag:noindex
X-PUBLISHED-TTL:PT1H
BEGIN:VTIMEZONE
TZID:UTC
BEGIN:STANDARD
TZOFFSETFROM:+0000
TZOFFSETTO:+0000
TZNAME:UTC
DTSTART:20250101T000000
END:STANDARD
END:VTIMEZONE
BEGIN:VEVENT
DTSTART;TZID=UTC:20260829T143000
DTEND;TZID=UTC:20260829T170000
DTSTAMP:20260420T001327
CREATED:20260413T075628Z
LAST-MODIFIED:20260413T075628Z
UID:10002416-1788013800-1788022800@www.deboeivinkeveen.nl
SUMMARY:Ahoy! Shantyfestival op het Boeiplein
DESCRIPTION:Hijs de zeilen en zing mee! Op zaterdag 29 augustus transformeert het Boeiplein in een ware zeemanshaven tijdens het jaarlijkse Shantyfestival. Geniet van authentieke shanty’s\, maritieme sfeer en gezelligheid voor het hele gezin. Laat je meevoeren op de golven van bekende zeemansliederen en beleef een dag vol nautische nostalgie midden in Vinkeveen!
URL:https://www.deboeivinkeveen.nl/activiteit/ahoy-shantyfestival-op-het-boeiplein-2/
LOCATION:De Boei\, Kerklaan 32\, 3645 EV\, Vinkeveen
ATTACH;FMTTYPE=image/jpeg:https://www.deboeivinkeveen.nl/wp-content/uploads/2025/06/Afbeelding1-720x456-1.jpg
END:VEVENT
END:VCALENDAR