BEGIN:VCALENDAR
VERSION:2.0
PRODID:-//De Boei Vinkeveen - ECPv6.15.20//NONSGML v1.0//EN
CALSCALE:GREGORIAN
METHOD:PUBLISH
X-ORIGINAL-URL:https://www.deboeivinkeveen.nl
X-WR-CALDESC:Evenementen voor De Boei Vinkeveen
REFRESH-INTERVAL;VALUE=DURATION:PT1H
X-Robots-Tag:noindex
X-PUBLISHED-TTL:PT1H
BEGIN:VTIMEZONE
TZID:UTC
BEGIN:STANDARD
TZOFFSETFROM:+0000
TZOFFSETTO:+0000
TZNAME:UTC
DTSTART:20250101T000000
END:STANDARD
END:VTIMEZONE
BEGIN:VEVENT
DTSTART;TZID=UTC:20260318T073000
DTEND;TZID=UTC:20260319T210000
DTSTAMP:20260420T041243
CREATED:20260302T111631Z
LAST-MODIFIED:20260302T114439Z
UID:10002411-1773819000-1773954000@www.deboeivinkeveen.nl
SUMMARY:De Boei stembureau bij de gemeenteraad verkiezingen
DESCRIPTION:Op woensdag 18 maart zijn er verkiezingen voor de Gemeenteraad van de Ronde Venen. De Boei is één van de stembureau’s waar inwoners van De Ronde Venen hun stem kunnen uitbrengen. U kunt stemmen tussen 7.30 uur ’s ochtends en 21.00 uur ‘s avonds. Meer informatie over de verkiezingen staat op de website van de gemeente:  Gemeente De Ronde Venen – Stemmen voor verkiezingen gemeenteraad
URL:https://www.deboeivinkeveen.nl/activiteit/de-boei-stembureau-bij-de-verkiezingen-2/
LOCATION:De Boei\, Kerklaan 32\, 3645 EV\, Vinkeveen
ATTACH;FMTTYPE=image/png:https://www.deboeivinkeveen.nl/wp-content/uploads/2026/02/rtv.png
END:VEVENT
END:VCALENDAR