BEGIN:VCALENDAR
VERSION:2.0
PRODID:-//De Boei Vinkeveen - ECPv6.15.20//NONSGML v1.0//EN
CALSCALE:GREGORIAN
METHOD:PUBLISH
X-WR-CALNAME:De Boei Vinkeveen
X-ORIGINAL-URL:https://www.deboeivinkeveen.nl
X-WR-CALDESC:Evenementen voor De Boei Vinkeveen
REFRESH-INTERVAL;VALUE=DURATION:PT1H
X-Robots-Tag:noindex
X-PUBLISHED-TTL:PT1H
BEGIN:VTIMEZONE
TZID:UTC
BEGIN:STANDARD
TZOFFSETFROM:+0000
TZOFFSETTO:+0000
TZNAME:UTC
DTSTART:20250101T000000
END:STANDARD
END:VTIMEZONE
BEGIN:VEVENT
DTSTART;TZID=UTC:20260321T133000
DTEND;TZID=UTC:20260321T160000
DTSTAMP:20260422T084502
CREATED:20260112T095559Z
LAST-MODIFIED:20260303T080933Z
UID:10002384-1774099800-1774108800@www.deboeivinkeveen.nl
SUMMARY:Typisch Nostalgisch Vinkeveen
DESCRIPTION:🎬 Filmmiddag: Typisch Nostalgisch 🎬📍 Vinkeveen📅 zaterdag 21 maart \nKom genieten van een sfeervolle nostalgische filmmiddag! \nInloop: vanaf 13.00 uur \nStart film: 13.30 uur \nPauze: rond 14.30 uur \nEinde film: ca. 16.00 uur \nNa afloop is er gelegenheid om gezellig iets te drinken in de foyer en nog even na te praten. \nIedereen is van harte welkom – we hopen je te zien! ☕🍿
URL:https://www.deboeivinkeveen.nl/activiteit/typisch-nostalgisch-vinkeveen-2/
LOCATION:De Boei\, Kerklaan 32\, 3645 EV\, Vinkeveen
ATTACH;FMTTYPE=image/jpeg:https://www.deboeivinkeveen.nl/wp-content/uploads/2025/04/deboei-film-typisch-nostalgisch-Vinkeveen.jpg
END:VEVENT
END:VCALENDAR