BEGIN:VCALENDAR
VERSION:2.0
PRODID:-//De Boei Vinkeveen - ECPv6.15.20//NONSGML v1.0//EN
CALSCALE:GREGORIAN
METHOD:PUBLISH
X-WR-CALNAME:De Boei Vinkeveen
X-ORIGINAL-URL:https://www.deboeivinkeveen.nl
X-WR-CALDESC:Evenementen voor De Boei Vinkeveen
REFRESH-INTERVAL;VALUE=DURATION:PT1H
X-Robots-Tag:noindex
X-PUBLISHED-TTL:PT1H
BEGIN:VTIMEZONE
TZID:UTC
BEGIN:STANDARD
TZOFFSETFROM:+0000
TZOFFSETTO:+0000
TZNAME:UTC
DTSTART:20250101T000000
END:STANDARD
END:VTIMEZONE
BEGIN:VEVENT
DTSTART;TZID=UTC:20260304T133000
DTEND;TZID=UTC:20260304T163000
DTSTAMP:20260424T071057
CREATED:20250108T213821Z
LAST-MODIFIED:20251209T101637Z
UID:10000660-1772631000-1772641800@www.deboeivinkeveen.nl
SUMMARY:SOOS middag WILLISSTEE
DESCRIPTION:Iedere woensdagmiddag opent de SooS haar deuren voor een gevarieerde middag vol gezellige activiteiten. Of u nu wilt klaverjassen\, bridgen\, biljarten of andere spellen wilt spelen – aan keuze geen gebrek. Voor slechts €4\,00 kunt u zonder lidmaatschap deelnemen en wordt u verwend met een heerlijk kopje koffie of thee met een koekje. Voor meer informatie over deze laagdrempelige activiteit kunt u contact opnemen met Greet van Scheppingen via 065 133 9687.
URL:https://www.deboeivinkeveen.nl/activiteit/soos-middag-3/2026-03-04/
LOCATION:Willisstee\, Pieter Joostenlaan 24\, 3648 XR\, Wilnis
ATTACH;FMTTYPE=image/webp:https://www.deboeivinkeveen.nl/wp-content/uploads/2025/01/img-deboei-bridge-1.webp
END:VEVENT
BEGIN:VEVENT
DTSTART;TZID=UTC:20260311T133000
DTEND;TZID=UTC:20260311T163000
DTSTAMP:20260424T071057
CREATED:20250108T213821Z
LAST-MODIFIED:20251209T101637Z
UID:10000661-1773235800-1773246600@www.deboeivinkeveen.nl
SUMMARY:SOOS middag WILLISSTEE
DESCRIPTION:Iedere woensdagmiddag opent de SooS haar deuren voor een gevarieerde middag vol gezellige activiteiten. Of u nu wilt klaverjassen\, bridgen\, biljarten of andere spellen wilt spelen – aan keuze geen gebrek. Voor slechts €4\,00 kunt u zonder lidmaatschap deelnemen en wordt u verwend met een heerlijk kopje koffie of thee met een koekje. Voor meer informatie over deze laagdrempelige activiteit kunt u contact opnemen met Greet van Scheppingen via 065 133 9687.
URL:https://www.deboeivinkeveen.nl/activiteit/soos-middag-3/2026-03-11/
LOCATION:Willisstee\, Pieter Joostenlaan 24\, 3648 XR\, Wilnis
ATTACH;FMTTYPE=image/webp:https://www.deboeivinkeveen.nl/wp-content/uploads/2025/01/img-deboei-bridge-1.webp
END:VEVENT
BEGIN:VEVENT
DTSTART;TZID=UTC:20260311T170000
DTEND;TZID=UTC:20260311T193000
DTSTAMP:20260424T071057
CREATED:20260120T090605Z
LAST-MODIFIED:20260120T090807Z
UID:10002388-1773248400-1773257400@www.deboeivinkeveen.nl
SUMMARY:Samen eten en ontmoeten
DESCRIPTION:Schuif gezellig aan bij de gezamenlijke maaltijd in café Stee Inn\, het warme hart van dorpshuis de Willisstee. Samen met dorpsgenoten genieten van een smakelijke avond vol gezelligheid en goede gesprekken. Wilt u ook aanschuiven bij deze sfeervolle maaltijd? Reserveer dan uw plek door te bellen naar 06 274 882 85. De deuren van Stee Inn openen om 17:00 uur\, waarna we om 17:30 uur gezamenlijk aan tafel gaan.
URL:https://www.deboeivinkeveen.nl/activiteit/samen-eten-en-ontmoeten-4/2026-03-11/
LOCATION:Willisstee\, Pieter Joostenlaan 24\, 3648 XR\, Wilnis
ATTACH;FMTTYPE=image/webp:https://www.deboeivinkeveen.nl/wp-content/uploads/2025/05/Gezellig-samen-eten.webp
END:VEVENT
BEGIN:VEVENT
DTSTART;TZID=UTC:20260318T073000
DTEND;TZID=UTC:20260318T210000
DTSTAMP:20260424T071058
CREATED:20260302T114607Z
LAST-MODIFIED:20260302T114720Z
UID:10002412-1773819000-1773867600@www.deboeivinkeveen.nl
SUMMARY:De Willisstee stembureau bij de verkiezingen gemeenteraad De Ronde Venen
DESCRIPTION:Op woensdag 18 maart zijn er verkiezingen voor de Gemeenteraad van de Ronde Venen. De Willisstee is één van de stembureau’s waar inwoners van De Ronde Venen hun stem kunnen uitbrengen. U kunt stemmen tussen 7.30 uur ’s ochtends en 21.00 uur ‘s avonds. Meer informatie over de verkiezingen staat op de website van de gemeente:  Gemeente De Ronde Venen – Stemmen voor verkiezingen gemeenteraad \n 
URL:https://www.deboeivinkeveen.nl/activiteit/de-willisstee-stembureau-bij-de-verkiezingen-gemeenteraad-de-ronde-venen/
LOCATION:Willisstee\, Pieter Joostenlaan 24\, 3648 XR\, Wilnis
ATTACH;FMTTYPE=image/png:https://www.deboeivinkeveen.nl/wp-content/uploads/2026/02/rtv.png
END:VEVENT
BEGIN:VEVENT
DTSTART;TZID=UTC:20260318T133000
DTEND;TZID=UTC:20260318T163000
DTSTAMP:20260424T071058
CREATED:20250108T213821Z
LAST-MODIFIED:20251209T101637Z
UID:10000662-1773840600-1773851400@www.deboeivinkeveen.nl
SUMMARY:SOOS middag WILLISSTEE
DESCRIPTION:Iedere woensdagmiddag opent de SooS haar deuren voor een gevarieerde middag vol gezellige activiteiten. Of u nu wilt klaverjassen\, bridgen\, biljarten of andere spellen wilt spelen – aan keuze geen gebrek. Voor slechts €4\,00 kunt u zonder lidmaatschap deelnemen en wordt u verwend met een heerlijk kopje koffie of thee met een koekje. Voor meer informatie over deze laagdrempelige activiteit kunt u contact opnemen met Greet van Scheppingen via 065 133 9687.
URL:https://www.deboeivinkeveen.nl/activiteit/soos-middag-3/2026-03-18/
LOCATION:Willisstee\, Pieter Joostenlaan 24\, 3648 XR\, Wilnis
ATTACH;FMTTYPE=image/webp:https://www.deboeivinkeveen.nl/wp-content/uploads/2025/01/img-deboei-bridge-1.webp
END:VEVENT
BEGIN:VEVENT
DTSTART;TZID=UTC:20260325T133000
DTEND;TZID=UTC:20260325T163000
DTSTAMP:20260424T071058
CREATED:20250108T213821Z
LAST-MODIFIED:20251209T101637Z
UID:10000663-1774445400-1774456200@www.deboeivinkeveen.nl
SUMMARY:SOOS middag WILLISSTEE
DESCRIPTION:Iedere woensdagmiddag opent de SooS haar deuren voor een gevarieerde middag vol gezellige activiteiten. Of u nu wilt klaverjassen\, bridgen\, biljarten of andere spellen wilt spelen – aan keuze geen gebrek. Voor slechts €4\,00 kunt u zonder lidmaatschap deelnemen en wordt u verwend met een heerlijk kopje koffie of thee met een koekje. Voor meer informatie over deze laagdrempelige activiteit kunt u contact opnemen met Greet van Scheppingen via 065 133 9687.
URL:https://www.deboeivinkeveen.nl/activiteit/soos-middag-3/2026-03-25/
LOCATION:Willisstee\, Pieter Joostenlaan 24\, 3648 XR\, Wilnis
ATTACH;FMTTYPE=image/webp:https://www.deboeivinkeveen.nl/wp-content/uploads/2025/01/img-deboei-bridge-1.webp
END:VEVENT
END:VCALENDAR