BEGIN:VCALENDAR
VERSION:2.0
PRODID:-//De Boei Vinkeveen - ECPv6.15.20//NONSGML v1.0//EN
CALSCALE:GREGORIAN
METHOD:PUBLISH
X-WR-CALNAME:De Boei Vinkeveen
X-ORIGINAL-URL:https://www.deboeivinkeveen.nl
X-WR-CALDESC:Evenementen voor De Boei Vinkeveen
REFRESH-INTERVAL;VALUE=DURATION:PT1H
X-Robots-Tag:noindex
X-PUBLISHED-TTL:PT1H
BEGIN:VTIMEZONE
TZID:UTC
BEGIN:STANDARD
TZOFFSETFROM:+0000
TZOFFSETTO:+0000
TZNAME:UTC
DTSTART:20250101T000000
END:STANDARD
END:VTIMEZONE
BEGIN:VEVENT
DTSTART;TZID=UTC:20260430T100000
DTEND;TZID=UTC:20260430T130000
DTSTAMP:20260420T120735
CREATED:20260415T083637Z
LAST-MODIFIED:20260415T085921Z
UID:10002420-1777543200-1777554000@www.deboeivinkeveen.nl
SUMMARY:Sportieve meivakantie in de Willisstee voor jeugd 4 tot en met 12 jaar
DESCRIPTION:Tijdens de meivakantie hoeven kinderen in De Ronde Venen zich geen moment te vervelen. Team Sportservice organiseert in verschillende kernen een gevarieerd programma vol sportieve activiteiten voor kinderen en jongeren van 4 tot en met 16 jaar. De activiteiten vinden plaats in Vinkeveen\, Mijdrecht en Wilnis en staan in het teken van samenwerking\, beweging en plezier. \nIn Wilnis staat op 30 april in De Willisstee een ochtend vol Hollandse sport- en spelactiviteiten op het programma. Van 10.00 tot 13.00 uur kunnen kinderen van 4 tot en met 12 jaar meedoen aan traditionele spellen zoals blikgooien\, ringwerpen\, stoepranden en zaklopen in Sporthal De Willisstee. \nOp dinsdag 28 en woensdag 29 april zijn Vinkeveen (Sporthal De Boei) en Mijdrecht (Sporthal De Phoenix) aan de beurt. De activiteiten zijn laagdrempelig en gericht op plezier in bewegen. Deelname is mogelijk na aanmelding. Geïnteresseerden kunnen contact opnemen met buurtsportcoach jeugd Lisa Smelik via lsmelik@teamsportservice.nl of 06–45140553.
URL:https://www.deboeivinkeveen.nl/activiteit/sportieve-meivakantie-voor-jeugd-4-tot-en-met-12-jaar/
LOCATION:Willisstee\, Pieter Joostenlaan 24\, 3648 XR\, Wilnis
ATTACH;FMTTYPE=image/png:https://www.deboeivinkeveen.nl/wp-content/uploads/2026/04/oudhollandands.png
END:VEVENT
END:VCALENDAR