BEGIN:VCALENDAR
VERSION:2.0
PRODID:-//De Boei Vinkeveen - ECPv6.15.20//NONSGML v1.0//EN
CALSCALE:GREGORIAN
METHOD:PUBLISH
X-ORIGINAL-URL:https://www.deboeivinkeveen.nl
X-WR-CALDESC:Evenementen voor De Boei Vinkeveen
REFRESH-INTERVAL;VALUE=DURATION:PT1H
X-Robots-Tag:noindex
X-PUBLISHED-TTL:PT1H
BEGIN:VTIMEZONE
TZID:UTC
BEGIN:STANDARD
TZOFFSETFROM:+0000
TZOFFSETTO:+0000
TZNAME:UTC
DTSTART:20250101T000000
END:STANDARD
END:VTIMEZONE
BEGIN:VEVENT
DTSTART;TZID=UTC:20260422T133000
DTEND;TZID=UTC:20260422T163000
DTSTAMP:20260420T070437
CREATED:20250108T213821Z
LAST-MODIFIED:20251209T101637Z
UID:10000667-1776864600-1776875400@www.deboeivinkeveen.nl
SUMMARY:SOOS middag WILLISSTEE
DESCRIPTION:Iedere woensdagmiddag opent de SooS haar deuren voor een gevarieerde middag vol gezellige activiteiten. Of u nu wilt klaverjassen\, bridgen\, biljarten of andere spellen wilt spelen – aan keuze geen gebrek. Voor slechts €4\,00 kunt u zonder lidmaatschap deelnemen en wordt u verwend met een heerlijk kopje koffie of thee met een koekje. Voor meer informatie over deze laagdrempelige activiteit kunt u contact opnemen met Greet van Scheppingen via 065 133 9687.
URL:https://www.deboeivinkeveen.nl/activiteit/soos-middag-3/2026-04-22/
LOCATION:Willisstee\, Pieter Joostenlaan 24\, 3648 XR\, Wilnis
ATTACH;FMTTYPE=image/webp:https://www.deboeivinkeveen.nl/wp-content/uploads/2025/01/img-deboei-bridge-1.webp
END:VEVENT
BEGIN:VEVENT
DTSTART;TZID=UTC:20260422T170000
DTEND;TZID=UTC:20260422T193000
DTSTAMP:20260420T070437
CREATED:20260120T090605Z
LAST-MODIFIED:20260120T090807Z
UID:10002389-1776877200-1776886200@www.deboeivinkeveen.nl
SUMMARY:Samen eten en ontmoeten
DESCRIPTION:Schuif gezellig aan bij de gezamenlijke maaltijd in café Stee Inn\, het warme hart van dorpshuis de Willisstee. Samen met dorpsgenoten genieten van een smakelijke avond vol gezelligheid en goede gesprekken. Wilt u ook aanschuiven bij deze sfeervolle maaltijd? Reserveer dan uw plek door te bellen naar 06 274 882 85. De deuren van Stee Inn openen om 17:00 uur\, waarna we om 17:30 uur gezamenlijk aan tafel gaan.
URL:https://www.deboeivinkeveen.nl/activiteit/samen-eten-en-ontmoeten-4/2026-04-22/
LOCATION:Willisstee\, Pieter Joostenlaan 24\, 3648 XR\, Wilnis
ATTACH;FMTTYPE=image/webp:https://www.deboeivinkeveen.nl/wp-content/uploads/2025/05/Gezellig-samen-eten.webp
END:VEVENT
BEGIN:VEVENT
DTSTART;TZID=UTC:20260429T133000
DTEND;TZID=UTC:20260429T163000
DTSTAMP:20260420T070437
CREATED:20250108T213821Z
LAST-MODIFIED:20251209T101637Z
UID:10000668-1777469400-1777480200@www.deboeivinkeveen.nl
SUMMARY:SOOS middag WILLISSTEE
DESCRIPTION:Iedere woensdagmiddag opent de SooS haar deuren voor een gevarieerde middag vol gezellige activiteiten. Of u nu wilt klaverjassen\, bridgen\, biljarten of andere spellen wilt spelen – aan keuze geen gebrek. Voor slechts €4\,00 kunt u zonder lidmaatschap deelnemen en wordt u verwend met een heerlijk kopje koffie of thee met een koekje. Voor meer informatie over deze laagdrempelige activiteit kunt u contact opnemen met Greet van Scheppingen via 065 133 9687.
URL:https://www.deboeivinkeveen.nl/activiteit/soos-middag-3/2026-04-29/
LOCATION:Willisstee\, Pieter Joostenlaan 24\, 3648 XR\, Wilnis
ATTACH;FMTTYPE=image/webp:https://www.deboeivinkeveen.nl/wp-content/uploads/2025/01/img-deboei-bridge-1.webp
END:VEVENT
BEGIN:VEVENT
DTSTART;TZID=UTC:20260430T100000
DTEND;TZID=UTC:20260430T130000
DTSTAMP:20260420T070437
CREATED:20260415T083637Z
LAST-MODIFIED:20260415T085921Z
UID:10002420-1777543200-1777554000@www.deboeivinkeveen.nl
SUMMARY:Sportieve meivakantie in de Willisstee voor jeugd 4 tot en met 12 jaar
DESCRIPTION:Tijdens de meivakantie hoeven kinderen in De Ronde Venen zich geen moment te vervelen. Team Sportservice organiseert in verschillende kernen een gevarieerd programma vol sportieve activiteiten voor kinderen en jongeren van 4 tot en met 16 jaar. De activiteiten vinden plaats in Vinkeveen\, Mijdrecht en Wilnis en staan in het teken van samenwerking\, beweging en plezier. \nIn Wilnis staat op 30 april in De Willisstee een ochtend vol Hollandse sport- en spelactiviteiten op het programma. Van 10.00 tot 13.00 uur kunnen kinderen van 4 tot en met 12 jaar meedoen aan traditionele spellen zoals blikgooien\, ringwerpen\, stoepranden en zaklopen in Sporthal De Willisstee. \nOp dinsdag 28 en woensdag 29 april zijn Vinkeveen (Sporthal De Boei) en Mijdrecht (Sporthal De Phoenix) aan de beurt. De activiteiten zijn laagdrempelig en gericht op plezier in bewegen. Deelname is mogelijk na aanmelding. Geïnteresseerden kunnen contact opnemen met buurtsportcoach jeugd Lisa Smelik via lsmelik@teamsportservice.nl of 06–45140553.
URL:https://www.deboeivinkeveen.nl/activiteit/sportieve-meivakantie-voor-jeugd-4-tot-en-met-12-jaar/
LOCATION:Willisstee\, Pieter Joostenlaan 24\, 3648 XR\, Wilnis
ATTACH;FMTTYPE=image/png:https://www.deboeivinkeveen.nl/wp-content/uploads/2026/04/oudhollandands.png
END:VEVENT
END:VCALENDAR